BEGIN:VCALENDAR
VERSION:2.0
PRODID:-//Plone.org//NONSGML plone.app.event//EN
X-WR-TIMEZONE:America/New_York
BEGIN:VEVENT
SUMMARY:Arkus at Dreamforce 2025
DTSTART;VALUE=DATE:20251014
DTEND;VALUE=DATE:20251017
DTSTAMP:20260425T122443Z
UID:6dc0748e1ec54fc5a502670b694eae8f@127.0.0.1:8080
ATTENDEE;CN="Jason Atwood";ROLE=REQ-PARTICIPANT:Jason Atwood
ATTENDEE;CN="Ryan Boyle";ROLE=REQ-PARTICIPANT:Ryan Boyle
ATTENDEE;CN="Jon Squicciarini";ROLE=REQ-PARTICIPANT:Jon Squicciarini
ATTENDEE;CN="Amy Bucciferro";ROLE=REQ-PARTICIPANT:Amy Bucciferro
CATEGORIES:Dreamforce,Agentforce,AI
CONTACT:Ryan Boyle\, brooke.stickle@arkusinc.com\, https://www.salesforce.
 com/dreamforce/?d=701ed000003k9wLAAQ&nc=701ed000003kFNQAA2&utm_content=701
 ed000003k9wLAAQ&utm_source=google&utm_medium=paid_search&utm_campaign=2254
 2202263&utm_adgroup=180892051393&utm_term=dreamforce%202025&utm_matchtype=
 e&gclsrc=aw.ds&gad_source=1&gad_campaignid=22542202263&gbraid=0AAAAAD4PnrM
 qw3hi9sd_BCdtQrrJFpJaK&gclid=Cj0KCQjwn8XFBhCxARIsAMyH8BsfnDbrixmPwEvFerdgS
 E4685Iw-c-cm6DaHBe4gPAI0I8WpFXOQc0aAm5qEALw_wcB
CREATED:20250829T200816Z
DESCRIPTION:Arkus is excited to return to Dreamforce for another great eve
 nt where leaders and innovators will explore AI\, Data Cloud\, and the lat
 est Salesforce solutions to drive customer success and lasting impact.
LAST-MODIFIED:20260128T180717Z
LOCATION:Moscone Center\, 747 Howard St\, San Francisco\, CA 94103
URL:https://www.arkusinc.com/events-archive/2025/arkus-at-dreamforce-2025
END:VEVENT
END:VCALENDAR
