BEGIN:VCALENDAR
VERSION:2.0
PRODID:-//Plone.org//NONSGML plone.app.event//EN
X-WR-TIMEZONE:America/New_York
BEGIN:VEVENT
SUMMARY:Executive Workshops in LA with Arkus
DTSTART;TZID=America/New_York:20260406T110000
DTEND;TZID=America/New_York:20260410T120000
DTSTAMP:20260424T232507Z
UID:06c8561490ad47968c9e716bfce37121@127.0.0.1:8080
CREATED:20260310T154609Z
DESCRIPTION:Join the Arkus Team in Southern California the week of April 6
 th for an exciting series of workshops and 1:1 sessions with our LA commun
 ity.
LAST-MODIFIED:20260313T145323Z
URL:https://www.arkusinc.com/events-archive/2026/executive-workshops-la-ar
 kus
END:VEVENT
BEGIN:VTIMEZONE
TZID:America/New_York
X-LIC-LOCATION:America/New_York
BEGIN:DAYLIGHT
DTSTART:20260308T030000
TZNAME:EDT
TZOFFSETFROM:-0500
TZOFFSETTO:-0400
END:DAYLIGHT
END:VTIMEZONE
END:VCALENDAR
